BEGIN:VCALENDAR
VERSION:2.0
PRODID:-//wp-events-plugin.com//7.2.3.1//EN
TZID:Indian/Mayotte
X-WR-TIMEZONE:Indian/Mayotte
BEGIN:VEVENT
UID:1@preprod-koungou.nautilus.fr
DTSTART:20230915T050000Z
DTEND:20230915T130000Z
DTSTAMP:20230913T090258Z
URL:https://preprod-koungou.nautilus.fr/events/exposition-a-la-bibliothequ
 e-de-koungou/
SUMMARY:Exposition à la bibliothèque de Koungou
DESCRIPTION:
ATTACH;FMTTYPE=image/jpeg:https://preprod-koungou.nautilus.fr/wp-content/u
 ploads/2023/09/conseilg.jpg
LOCATION:Bibliothèque\, 12 rue des cocotiers\, Koungou\, France
X-APPLE-STRUCTURED-LOCATION;VALUE=URI;X-ADDRESS=12 rue des cocotiers\, Koun
 gou\, France;X-APPLE-RADIUS=100;X-TITLE=Bibliothèque:geo:0,0
END:VEVENT
END:VCALENDAR